BEGIN:VCALENDAR
VERSION:2.0
PRODID:-//Parson Drove - ECPv6.15.20//NONSGML v1.0//EN
CALSCALE:GREGORIAN
METHOD:PUBLISH
X-ORIGINAL-URL:https://www.parsondrove.net
X-WR-CALDESC:Events for Parson Drove
REFRESH-INTERVAL;VALUE=DURATION:PT1H
X-Robots-Tag:noindex
X-PUBLISHED-TTL:PT1H
BEGIN:VTIMEZONE
TZID:Europe/London
BEGIN:DAYLIGHT
TZOFFSETFROM:+0000
TZOFFSETTO:+0100
TZNAME:BST
DTSTART:20240331T010000
END:DAYLIGHT
BEGIN:STANDARD
TZOFFSETFROM:+0100
TZOFFSETTO:+0000
TZNAME:GMT
DTSTART:20241027T010000
END:STANDARD
BEGIN:DAYLIGHT
TZOFFSETFROM:+0000
TZOFFSETTO:+0100
TZNAME:BST
DTSTART:20250330T010000
END:DAYLIGHT
BEGIN:STANDARD
TZOFFSETFROM:+0100
TZOFFSETTO:+0000
TZNAME:GMT
DTSTART:20251026T010000
END:STANDARD
BEGIN:DAYLIGHT
TZOFFSETFROM:+0000
TZOFFSETTO:+0100
TZNAME:BST
DTSTART:20260329T010000
END:DAYLIGHT
BEGIN:STANDARD
TZOFFSETFROM:+0100
TZOFFSETTO:+0000
TZNAME:GMT
DTSTART:20261025T010000
END:STANDARD
BEGIN:DAYLIGHT
TZOFFSETFROM:+0000
TZOFFSETTO:+0100
TZNAME:BST
DTSTART:20270328T010000
END:DAYLIGHT
BEGIN:STANDARD
TZOFFSETFROM:+0100
TZOFFSETTO:+0000
TZNAME:GMT
DTSTART:20271031T010000
END:STANDARD
END:VTIMEZONE
BEGIN:VEVENT
DTSTART;TZID=Europe/London:20260408T190000
DTEND;TZID=Europe/London:20260408T220000
DTSTAMP:20260423T104231
CREATED:20251120T143407Z
LAST-MODIFIED:20251120T143407Z
UID:1604-1775674800-1775685600@www.parsondrove.net
SUMMARY:Parson Drove Parish Council Meeting
DESCRIPTION:All welcome to attend. \nPublic Participation in the Open Forum starts the meeting\, so any members of the public wishing to address the Parish Council need to be seated and ready for a prompt start at 7pm. \nThree minutes are allowed for each member of the public who wishes to speak\, with the agenda item time limited to a maximum of 15 minutes. \nThe meeting agenda will be circulated on this website and the village public noticeboard on the Friday before the meeting.
URL:https://www.parsondrove.net/event/parson-drove-parish-council-meeting-9/
LOCATION:Parson Drove Village Hall\, Main Road\, Parson Drove\, Wisbech\, PE13 4LF\, United Kingdom
END:VEVENT
BEGIN:VEVENT
DTSTART;TZID=Europe/London:20260311T190000
DTEND;TZID=Europe/London:20260311T220000
DTSTAMP:20260423T104231
CREATED:20251120T143311Z
LAST-MODIFIED:20251120T143311Z
UID:1602-1773255600-1773266400@www.parsondrove.net
SUMMARY:Parson Drove Parish Council Meeting
DESCRIPTION:All welcome to attend. \nPublic Participation in the Open Forum starts the meeting\, so any members of the public wishing to address the Parish Council need to be seated and ready for a prompt start at 7pm. \nThree minutes are allowed for each member of the public who wishes to speak\, with the agenda item time limited to a maximum of 15 minutes. \nThe meeting agenda will be circulated on this website and the village public noticeboard on the Friday before the meeting.
URL:https://www.parsondrove.net/event/parson-drove-parish-council-meeting-8/
LOCATION:Parson Drove Village Hall\, Main Road\, Parson Drove\, Wisbech\, PE13 4LF\, United Kingdom
END:VEVENT
BEGIN:VEVENT
DTSTART;TZID=Europe/London:20260211T190000
DTEND;TZID=Europe/London:20260211T220000
DTSTAMP:20260423T104231
CREATED:20251120T143158Z
LAST-MODIFIED:20251120T143158Z
UID:1600-1770836400-1770847200@www.parsondrove.net
SUMMARY:Parson Drove Parish Council Meeting
DESCRIPTION:All welcome to attend. \nPublic Participation in the Open Forum starts the meeting\, so any members of the public wishing to address the Parish Council need to be seated and ready for a prompt start at 7pm. \nThree minutes are allowed for each member of the public who wishes to speak\, with the agenda item time limited to a maximum of 15 minutes. \nThe meeting agenda will be circulated on this website and the village public noticeboard on the Friday before the meeting.
URL:https://www.parsondrove.net/event/parson-drove-parish-council-meeting-7/
LOCATION:Parson Drove Village Hall\, Main Road\, Parson Drove\, Wisbech\, PE13 4LF\, United Kingdom
END:VEVENT
BEGIN:VEVENT
DTSTART;TZID=Europe/London:20260128T190000
DTEND;TZID=Europe/London:20260128T210000
DTSTAMP:20260423T104231
CREATED:20251120T143033Z
LAST-MODIFIED:20260123T143237Z
UID:1597-1769626800-1769634000@www.parsondrove.net
SUMMARY:Parson Drove Parish Council Meeting - Precept
DESCRIPTION:All welcome to attend. \nThis meeting is mainly for the discussion and setting of the Parish Precept. \nThe meeting agenda will be circulated on this website and the village public noticeboard on the Friday before the meeting.
URL:https://www.parsondrove.net/event/parson-drove-parish-council-meeting-precept/
LOCATION:Parson Drove Village Hall\, Main Road\, Parson Drove\, Wisbech\, PE13 4LF\, United Kingdom
END:VEVENT
BEGIN:VEVENT
DTSTART;TZID=Europe/London:20260114T190000
DTEND;TZID=Europe/London:20260114T220000
DTSTAMP:20260423T104231
CREATED:20251120T142531Z
LAST-MODIFIED:20251120T142531Z
UID:1595-1768417200-1768428000@www.parsondrove.net
SUMMARY:Parson Drove Parish Council Meeting
DESCRIPTION:All welcome to attend. \nPublic Participation in the Open Forum starts the meeting\, so any members of the public wishing to address the Parish Council need to be seated and ready for a prompt start at 7pm. \nThree minutes are allowed for each member of the public who wishes to speak\, with the agenda item time limited to a maximum of 15 minutes. \nThe meeting agenda will be circulated on this website and the village public noticeboard on the Friday before the meeting.
URL:https://www.parsondrove.net/event/parson-drove-parish-council-meeting-6/
LOCATION:Parson Drove Village Hall\, Main Road\, Parson Drove\, Wisbech\, PE13 4LF\, United Kingdom
END:VEVENT
BEGIN:VEVENT
DTSTART;TZID=Europe/London:20251210T190000
DTEND;TZID=Europe/London:20251210T210000
DTSTAMP:20260423T104231
CREATED:20250807T144224Z
LAST-MODIFIED:20250807T144224Z
UID:1442-1765393200-1765400400@www.parsondrove.net
SUMMARY:Parson Drove Parish Council Meeting
DESCRIPTION:All welcome to attend
URL:https://www.parsondrove.net/event/parson-drove-parish-council-meeting-5/
LOCATION:Parson Drove Village Hall\, Main Road\, Parson Drove\, Wisbech\, PE13 4LF\, United Kingdom
END:VEVENT
BEGIN:VEVENT
DTSTART;TZID=Europe/London:20251112T190000
DTEND;TZID=Europe/London:20251112T210000
DTSTAMP:20260423T104231
CREATED:20250807T144120Z
LAST-MODIFIED:20250807T144120Z
UID:1440-1762974000-1762981200@www.parsondrove.net
SUMMARY:Parson Drove Parish Council Meeting
DESCRIPTION:All welcome to attend
URL:https://www.parsondrove.net/event/parson-drove-parish-council-meeting-4/
LOCATION:Parson Drove Village Hall\, Main Road\, Parson Drove\, Wisbech\, PE13 4LF\, United Kingdom
END:VEVENT
BEGIN:VEVENT
DTSTART;TZID=Europe/London:20251008T190000
DTEND;TZID=Europe/London:20251008T210000
DTSTAMP:20260423T104231
CREATED:20250807T144012Z
LAST-MODIFIED:20250807T144012Z
UID:1438-1759950000-1759957200@www.parsondrove.net
SUMMARY:Parson Drove Parish Council Meeting
DESCRIPTION:All welcome to attend
URL:https://www.parsondrove.net/event/parson-drove-parish-council-meeting-3/
LOCATION:Parson Drove Village Hall\, Main Road\, Parson Drove\, Wisbech\, PE13 4LF\, United Kingdom
END:VEVENT
BEGIN:VEVENT
DTSTART;TZID=Europe/London:20250910T190000
DTEND;TZID=Europe/London:20250910T210000
DTSTAMP:20260423T104231
CREATED:20250807T143848Z
LAST-MODIFIED:20250807T143848Z
UID:1435-1757530800-1757538000@www.parsondrove.net
SUMMARY:Parson Drove Parish Council Meeting
DESCRIPTION:All welcome to attend.
URL:https://www.parsondrove.net/event/parson-drove-parish-council-meeting-2/
LOCATION:The Pavilion\, Parson Drove
END:VEVENT
BEGIN:VEVENT
DTSTART;TZID=Europe/London:20250824T150000
DTEND;TZID=Europe/London:20250824T180000
DTSTAMP:20260423T104231
CREATED:20250617T200521Z
LAST-MODIFIED:20250617T200521Z
UID:1383-1756047600-1756058400@www.parsondrove.net
SUMMARY:AFTERNOON TEA SUPPORTING BREAST CANCER NOW!
DESCRIPTION:AFTERNOON TEA 240825 \nAfternoon Tea at St Johns Church\, Parson Dove – supporting Breast Cancer Now Charities! \nJoin us for a delicious afternoon tea freshly prepared by our in house cheffie extraordinaire Mr Tone! There’ll be lots of fun\, games and competitions all in the lovely surroundings of our beautiful medieval church\, outdoors if the weather allows. \nLicensed bar\, Fabulous Fun Raffle and much much more. \nOur Best Friend\, The Fabulous Gabriella will be singing for us throughout the afternoon. \nTickets are £15 per person\, and for an extra £12 per group your can book a “private booth” with a FREE bottle of BUBBLY. All proceeds will be going to Breast Cancer Now. Over the last 2 years we have raised well over £1200 for the charity. \nFor info and bookings email ChurchEndEvents@btinternet.com
URL:https://www.parsondrove.net/event/afternoon-tea-supporting-breast-cancer-now/
LOCATION:St. John’s Church\, Main Road\, Parson Drove\, PE13 4LF\, United Kingdom
ORGANIZER;CN="Friends of St John":MAILTO:churchendevents@btinternet.com
END:VEVENT
BEGIN:VEVENT
DTSTART;TZID=Europe/London:20250823T173000
DTEND;TZID=Europe/London:20250823T220000
DTSTAMP:20260423T104231
CREATED:20250617T195007Z
LAST-MODIFIED:20250617T195007Z
UID:1379-1755970200-1755986400@www.parsondrove.net
SUMMARY:FANTASTIC FREE OUTDOOR THEATRE
DESCRIPTION:PERSEUS AND ANDROMEDA 230825 \nThe Friends of St John\, Parson Drove\, invite you to our fantastic FREE Outdoor Theatre Event. \nQuill and Inkling Theatre will be performing their unique take on the Greek Myth of Perseus and Andromeda in our outdoor performance area at St Johns Church in Parson Drove. Come and join in the fun. Our licensed bar will be open\, serving a wide range of refreshments\, Mally’s Pizzas will be on hand with their delicious fayre\, and as always there’ll be a FABULOUS RAFFLE! \nGates open at 5.30pm for picnics\, bring your own chairs\, tables\, picnic blankets\, the champers and the candelabra too. Performance starts at 7pm. \nIf the weather isn’t behaving then performance will be inside the church. \nPlease email ChurchEndEvents@btinternet.com to book your FREE tickets!
URL:https://www.parsondrove.net/event/fantastic-free-outdoor-theatre/
LOCATION:St. John’s Church\, Main Road\, Parson Drove\, PE13 4LF\, United Kingdom
ORGANIZER;CN="Friends of St John":MAILTO:churchendevents@btinternet.com
END:VEVENT
BEGIN:VEVENT
DTSTART;TZID=Europe/London:20250815T103000
DTEND;TZID=Europe/London:20250815T120000
DTSTAMP:20260423T104231
CREATED:20250807T143311Z
LAST-MODIFIED:20250807T143311Z
UID:1430-1755253800-1755259200@www.parsondrove.net
SUMMARY:VJ Celebrations
DESCRIPTION:All welcome to attend Parson Drove VJ Celebration. \n10.30 for 11.00am start at the War Memorial in Parson Drove
URL:https://www.parsondrove.net/event/vj-celebrations/
LOCATION:THe War Memorial\, Parson Drove
END:VEVENT
BEGIN:VEVENT
DTSTART;TZID=Europe/London:20250813T190000
DTEND;TZID=Europe/London:20250813T210000
DTSTAMP:20260423T104231
CREATED:20250807T143520Z
LAST-MODIFIED:20250807T143520Z
UID:1433-1755111600-1755118800@www.parsondrove.net
SUMMARY:Parson Drove Parish Council Meeting
DESCRIPTION:All welcome to attend.
URL:https://www.parsondrove.net/event/parson-drove-parish-council-meeting/
LOCATION:Parson Drove Village Hall\, Main Road\, Parson Drove\, Wisbech\, PE13 4LF\, United Kingdom
END:VEVENT
BEGIN:VEVENT
DTSTART;TZID=Europe/London:20250802T130000
DTEND;TZID=Europe/London:20250802T223000
DTSTAMP:20260423T104231
CREATED:20250617T191738Z
LAST-MODIFIED:20250617T191738Z
UID:1376-1754139600-1754173800@www.parsondrove.net
SUMMARY:SUMMERFEST 2025 at St Johns\, Parson Drove
DESCRIPTION:YES!! WE ARE BACK!! FOR ANOTHER FANTASTIC YEAR!! \nThe Friends of St John\, Parson Drove\, invite one and all to our Fabulous FREE Music and Beer Festival. There’ll be music galore from local bands and singers\, from 1pm all the way through till 10pm. Licensed Bar with Real Ales\, Mr T’s Loaded Buns BBQ\, Mally’s Pizzas\, Bucking Bronco\, Side Stalls\, Ice Cream Van\, Kids Zone and much\, much more. \nIt all happens at St Johns Church\, Main Road\, Parson Drove\, and yes it’s FREE ENTRY FOR ALL! \nFor more info\, performers\, stalls etc. please email us at ChurchEndEvents@btinternet.com \nSee you there \nSUMMERFEST FLIER 020825
URL:https://www.parsondrove.net/event/summerfest-2025-at-st-johns-parson-drove/
LOCATION:St. John’s Church\, Main Road\, Parson Drove\, PE13 4LF\, United Kingdom
ORGANIZER;CN="Friends of St John":MAILTO:churchendevents@btinternet.com
END:VEVENT
END:VCALENDAR